BEGIN:VCALENDAR
VERSION:2.0
PRODID:-//Tukios.com/
BEGIN:VEVENT
UID:f17c48d5-0e47-472a-ba60-962cb7b128c9@www.cusickfuneralhome.com
DTSTAMP:20260421T171518Z
DTSTART:20260509T140000Z
DTEND:20260509T160000Z
SUMMARY:Memorial Visitation
DESCRIPTION:
URL:https://www.cusickfuneralhome.com/obituaries/elizabeth-sabosik
LOCATION: 80 Mountain Ave  Somerville NJ 08876
GEO:40.5737295;-74.6193873
END:VEVENT
END:VCALENDAR